BEGIN:VCALENDAR
VERSION:2.0
PRODID:-//Tukios.com/
BEGIN:VEVENT
UID:bcd635c8-54af-49f3-a405-caf386613f9a@www.mcgaheegriffinandmcentire.com
DTSTAMP:20260423T000921Z
DTSTART:20260429T180000Z
DTEND:20260429T190000Z
SUMMARY:Memorial Service
DESCRIPTION:
URL:https://www.mcgaheegriffinandmcentire.com/obituaries/carole-lonergan
LOCATION:Chapel of McGahee-Griffin & McEntire 175 VFW Road  Cornelia GA 
	30531
GEO:34.5341044;-83.5373411
END:VEVENT
END:VCALENDAR