BEGIN:VCALENDAR
VERSION:2.0
PRODID:-//Tukios.com/
BEGIN:VEVENT
UID:728b98d2-189d-41ef-aa8f-9bf64891a457@www.mcgaheegriffinandmcentire.com
DTSTAMP:20260423T000803Z
DTSTART:20260429T170000Z
DTEND:20260429T180000Z
SUMMARY:Visitation
DESCRIPTION:
URL:https://www.mcgaheegriffinandmcentire.com/obituaries/carole-lonergan
LOCATION:McGahee-Griffin & McEntire Funeral Home 175 VFW Road  Cornelia 
	GA 30531
GEO:34.5341044;-83.5373411
END:VEVENT
END:VCALENDAR