BEGIN:VCALENDAR
VERSION:2.0
PRODID:-//Tukios.com/
BEGIN:VEVENT
UID:d2dbf6ba-c079-4c19-af95-a97b4c65643a@www.mcgaheegriffinandmcentire.com
DTSTAMP:20260420T010432Z
DTSTART:20260421T210000Z
DTEND:20260422T000000Z
SUMMARY:Visitation
DESCRIPTION:
URL:https://www.mcgaheegriffinandmcentire.com/obituaries/della-mae-wilbanks-allen
LOCATION:McGahee-Griffin & McEntire Funeral Home 175 VFW Road  Cornelia 
	GA 30531
GEO:34.5341044;-83.5373411
END:VEVENT
END:VCALENDAR