BEGIN:VCALENDAR
VERSION:2.0
PRODID:-//Tukios.com/
BEGIN:VEVENT
UID:42e4fce2-f87c-4253-a5dc-67935077a158@www.mcgaheegriffinandmcentire.com
DTSTAMP:20260420T010601Z
DTSTART:20260422T180000Z
DTEND:20260422T190000Z
SUMMARY:Funeral Service
DESCRIPTION:
URL:https://www.mcgaheegriffinandmcentire.com/obituaries/della-mae-wilbanks-allen
LOCATION:Chapel of McGahee-Griffin & McEntire Funeral Home 175 VFW Road  
	Cornelia GA 30531
GEO:34.5341044;-83.5373411
END:VEVENT
END:VCALENDAR