BEGIN:VCALENDAR
VERSION:2.0
PRODID:-//Tukios.com/
BEGIN:VEVENT
UID:48ef6624-f402-47f1-8c3d-3c71b4e642b2@www.mcgaheegriffinandmcentire.com
DTSTAMP:20260420T010816Z
DTSTART:20260422T180000Z
DTEND:20260422T190000Z
SUMMARY:Interment
DESCRIPTION:
URL:https://www.mcgaheegriffinandmcentire.com/obituaries/della-mae-wilbanks-allen
LOCATION: 161 US 441  Demorest GA 30535
GEO:34.4387376;-83.5069276
END:VEVENT
END:VCALENDAR