BEGIN:VCALENDAR
VERSION:2.0
PRODID:-//Tukios.com/
BEGIN:VEVENT
UID:69663b84-38d9-4605-9029-683ca36b3222@www.mcgaheegriffinandmcentire.com
DTSTAMP:20260421T000522Z
DTSTART:20260422T210000Z
DTEND:20260423T000000Z
SUMMARY:Visitation
DESCRIPTION:
URL:https://www.mcgaheegriffinandmcentire.com/obituaries/james-wiley
LOCATION:McGahee-Griffin & McEntire 175 VFW Road  Cornelia GA 30531
GEO:34.5341044;-83.5373411
END:VEVENT
END:VCALENDAR