BEGIN:VCALENDAR
VERSION:2.0
PRODID:-//Tukios.com/
BEGIN:VEVENT
UID:e5cec0e1-19b5-45e8-a1b9-a24f75a84331@www.mcgaheegriffinandmcentire.com
DTSTAMP:20260421T000329Z
DTSTART:20260423T180000Z
DTEND:20260423T190000Z
SUMMARY:Funeral Service
DESCRIPTION:
URL:https://www.mcgaheegriffinandmcentire.com/obituaries/james-wiley
LOCATION:McGahee-Griffin & McEntire 175 VFW Road  Cornelia GA 30531
GEO:34.5341044;-83.5373411
END:VEVENT
END:VCALENDAR