BEGIN:VCALENDAR
VERSION:2.0
PRODID:-//Tukios.com/
BEGIN:VEVENT
UID:a81dc051-a047-4323-b903-02e34a457190@www.mcgaheegriffinandmcentire.com
DTSTAMP:20260420T235641Z
DTSTART:20260423T183000Z
DTEND:20260423T184500Z
SUMMARY:Burial
DESCRIPTION:
URL:https://www.mcgaheegriffinandmcentire.com/obituaries/james-wiley
LOCATION: 243 Hazel Creek Church Road  Mount Airy GA 30563
GEO:34.5713282;-83.4836056
END:VEVENT
END:VCALENDAR